BEGIN:VCALENDAR
PRODID:-//kirchenweb.ch gmbh//veranstaltungsausgabe v2.0//DE
VERSION:2.0
METHOD:PUBLISH
BEGIN:VEVENT
DTSTART:20260529T154500Z
DTEND:20260529T161500Z
LOCATION:Evang. Kirche Märwil\, Kirchstrasse 1 \, 9562 Märwil
TRANSP:OPAQUE
SEQUENCE:0
UID:11194-veranstaltung@evang-a-b-m.ch
DTSTAMP:20251126T092653Z
DESCRIPTION:Kontakt: Sarah Fakhoury\n\nWeitere Infos:
  https://www.evang-a-b-m.ch/veranstaltung/11194
SUMMARY:Jugendgottesdienst in Märwil
PRIORITY:5
X-MICROSOFT-CDO-IMPORTANCE:1
CLASS:PUBLIC
END:VEVENT
END:VCALENDAR
